BEGIN:VCALENDAR
VERSION:2.0
PRODID:-//hacksw/handcal//NONSGML v1.0//EN
BEGIN:VEVENT
UID:20184
DTSTART;VALUE=DATE:20251016
URL;VALUE=URI:ohschonhell.at/?page_id=44435
SUMMARY:RAVELADEN x Schroedinger’s Groove
LOCATION:Kramladen
END:VEVENT
END:VCALENDAR


