BEGIN:VCALENDAR
VERSION:2.0
PRODID:-//hacksw/handcal//NONSGML v1.0//EN
BEGIN:VEVENT
UID:20200
DTSTART;VALUE=DATE:20251019
URL;VALUE=URI:ohschonhell.at/?page_id=44467
SUMMARY:SHAKE BABY SHAKE!
LOCATION:WUK
END:VEVENT
END:VCALENDAR


