BEGIN:VCALENDAR
VERSION:2.0
PRODID:-//hacksw/handcal//NONSGML v1.0//EN
BEGIN:VEVENT
UID:20202
DTSTART;VALUE=DATE:20251018
URL;VALUE=URI:ohschonhell.at/?page_id=44471
SUMMARY:LÖWENZAHN | General Techno De-Restoration
LOCATION:Kramladen
END:VEVENT
END:VCALENDAR


