BEGIN:VCALENDAR
VERSION:2.0
PRODID:-//hacksw/handcal//NONSGML v1.0//EN
BEGIN:VEVENT
UID:20231
DTSTART;VALUE=DATE:20251108
URL;VALUE=URI:ohschonhell.at/?page_id=44530
SUMMARY:TECHNOLOTxDonnerkanzel
LOCATION:Lot
END:VEVENT
END:VCALENDAR


