BEGIN:VCALENDAR
VERSION:2.0
PRODID:-//hacksw/handcal//NONSGML v1.0//EN
BEGIN:VEVENT
UID:20259
DTSTART;VALUE=DATE:20251106
URL;VALUE=URI:ohschonhell.at/?page_id=44587
SUMMARY:RAVELADEN #54
LOCATION:Kramladen
END:VEVENT
END:VCALENDAR


