BEGIN:VCALENDAR
VERSION:2.0
PRODID:-//hacksw/handcal//NONSGML v1.0//EN
BEGIN:VEVENT
UID:20261
DTSTART;VALUE=DATE:20251114
URL;VALUE=URI:ohschonhell.at/?page_id=44591
SUMMARY:Club Pompadour with Claudio Ricci
LOCATION:SASS
END:VEVENT
END:VCALENDAR


