BEGIN:VCALENDAR
VERSION:2.0
PRODID:-//hacksw/handcal//NONSGML v1.0//EN
BEGIN:VEVENT
UID:20272
DTSTART;VALUE=DATE:20251127
URL;VALUE=URI:ohschonhell.at/?page_id=44613
SUMMARY:fm.einfamilienhaus
LOCATION:SASS
END:VEVENT
END:VCALENDAR


