BEGIN:VCALENDAR
VERSION:2.0
PRODID:-//hacksw/handcal//NONSGML v1.0//EN
BEGIN:VEVENT
UID:20281
DTSTART;VALUE=DATE:20251107
URL;VALUE=URI:ohschonhell.at/?page_id=44631
SUMMARY:Alan Dixon - Prater Dome Vienna
LOCATION:Praterdome
END:VEVENT
END:VCALENDAR


