BEGIN:VCALENDAR
VERSION:2.0
PRODID:-//hacksw/handcal//NONSGML v1.0//EN
BEGIN:VEVENT
UID:20293
DTSTART;VALUE=DATE:20251122
URL;VALUE=URI:ohschonhell.at/?page_id=44656
SUMMARY:HOMEPARTY
LOCATION:Pink Pepper
END:VEVENT
END:VCALENDAR


