BEGIN:VCALENDAR
VERSION:2.0
PRODID:-//hacksw/handcal//NONSGML v1.0//EN
BEGIN:VEVENT
UID:20305
DTSTART;VALUE=DATE:20251114
URL;VALUE=URI:ohschonhell.at/?page_id=44680
SUMMARY:Hedex pres. by CINEMATIC - Prater Dome
LOCATION:Praterdome
END:VEVENT
END:VCALENDAR


