BEGIN:VCALENDAR
VERSION:2.0
PRODID:-//hacksw/handcal//NONSGML v1.0//EN
BEGIN:VEVENT
UID:20311
DTSTART;VALUE=DATE:20251115
URL;VALUE=URI:ohschonhell.at/?page_id=44692
SUMMARY:Raqsouna x Spice Mixers w/ ZOBAYDA
LOCATION:FLEX CAFE
END:VEVENT
END:VCALENDAR


