BEGIN:VCALENDAR
VERSION:2.0
PRODID:-//hacksw/handcal//NONSGML v1.0//EN
BEGIN:VEVENT
UID:2034
DTSTART;VALUE=DATE:20140926
URL;VALUE=URI:ohschonhell.at/?page_id=4691
SUMMARY:TURBO | Paco Osuna | &lt\;&gt\;&lt\;
LOCATION:GRELLE FORELLE
END:VEVENT
END:VCALENDAR


