BEGIN:VCALENDAR
VERSION:2.0
PRODID:-//hacksw/handcal//NONSGML v1.0//EN
BEGIN:VEVENT
UID:20411
DTSTART;VALUE=DATE:20251207
URL;VALUE=URI:ohschonhell.at/?page_id=44895
SUMMARY:TECHNO IM BOGEN - Free Community Rave - Kramladen Wien
LOCATION:Kramladen
END:VEVENT
END:VCALENDAR


