BEGIN:VCALENDAR
VERSION:2.0
PRODID:-//hacksw/handcal//NONSGML v1.0//EN
BEGIN:VEVENT
UID:20433
DTSTART;VALUE=DATE:20251219
URL;VALUE=URI:ohschonhell.at/?page_id=44940
SUMMARY:Toy Tonics at PRST Club
LOCATION:Praterstrasse / PRST
END:VEVENT
END:VCALENDAR


