BEGIN:VCALENDAR
VERSION:2.0
PRODID:-//hacksw/handcal//NONSGML v1.0//EN
BEGIN:VEVENT
UID:20439
DTSTART;VALUE=DATE:20251220
URL;VALUE=URI:ohschonhell.at/?page_id=44952
SUMMARY:Nora En Pure - Prater Dome
LOCATION:Praterdome
END:VEVENT
END:VCALENDAR


