BEGIN:VCALENDAR
VERSION:2.0
PRODID:-//hacksw/handcal//NONSGML v1.0//EN
BEGIN:VEVENT
UID:2044
DTSTART;VALUE=DATE:20140919
URL;VALUE=URI:ohschonhell.at/?page_id=4701
SUMMARY:CLUB  LIFESTYLE SEASON OPENING
LOCATION:CLUB LIFESTYLE
END:VEVENT
END:VCALENDAR


