BEGIN:VCALENDAR
VERSION:2.0
PRODID:-//hacksw/handcal//NONSGML v1.0//EN
BEGIN:VEVENT
UID:20442
DTSTART;VALUE=DATE:20251225
URL;VALUE=URI:ohschonhell.at/?page_id=44958
SUMMARY:FRACTAL FUSION
LOCATION:Kramladen
END:VEVENT
END:VCALENDAR


