BEGIN:VCALENDAR
VERSION:2.0
PRODID:-//hacksw/handcal//NONSGML v1.0//EN
BEGIN:VEVENT
UID:20443
DTSTART;VALUE=DATE:20251225
URL;VALUE=URI:ohschonhell.at/?page_id=44960
SUMMARY:AR GANG TAKEOVER with ROOLER - RIOT SHIFT - KROWDEXX - LEVENKHAN
LOCATION:Praterdome
END:VEVENT
END:VCALENDAR


