BEGIN:VCALENDAR
VERSION:2.0
PRODID:-//hacksw/handcal//NONSGML v1.0//EN
BEGIN:VEVENT
UID:20452
DTSTART;VALUE=DATE:20260115
URL;VALUE=URI:ohschonhell.at/?page_id=44979
SUMMARY:HART &amp\; ZART
LOCATION:Kramladen
END:VEVENT
END:VCALENDAR


