BEGIN:VCALENDAR
VERSION:2.0
PRODID:-//hacksw/handcal//NONSGML v1.0//EN
BEGIN:VEVENT
UID:20453
DTSTART;VALUE=DATE:20251226
URL;VALUE=URI:ohschonhell.at/?page_id=44981
SUMMARY:Last Christmas &#40\;Day&#41\;
LOCATION:SASS
END:VEVENT
END:VCALENDAR


