BEGIN:VCALENDAR
VERSION:2.0
PRODID:-//hacksw/handcal//NONSGML v1.0//EN
BEGIN:VEVENT
UID:20497
DTSTART;VALUE=DATE:20260115
URL;VALUE=URI:ohschonhell.at/?page_id=45071
SUMMARY:Der Radio
LOCATION:SASS
END:VEVENT
END:VCALENDAR


