BEGIN:VCALENDAR
VERSION:2.0
PRODID:-//hacksw/handcal//NONSGML v1.0//EN
BEGIN:VEVENT
UID:2050
DTSTART;VALUE=DATE:20141004
URL;VALUE=URI:ohschonhell.at/?page_id=4707
SUMMARY:HART with D´JULZ (Paris) ❚ Vienna Conservatory ❚ Free Entry &lt\;23:00
LOCATION:AUSLAGE
END:VEVENT
END:VCALENDAR


