BEGIN:VCALENDAR
VERSION:2.0
PRODID:-//hacksw/handcal//NONSGML v1.0//EN
BEGIN:VEVENT
UID:20501
DTSTART;VALUE=DATE:20260122
URL;VALUE=URI:ohschonhell.at/?page_id=45079
SUMMARY:Groove Operators
LOCATION:SASS
END:VEVENT
END:VCALENDAR


