BEGIN:VCALENDAR
VERSION:2.0
PRODID:-//hacksw/handcal//NONSGML v1.0//EN
BEGIN:VEVENT
UID:20506
DTSTART;VALUE=DATE:20260130
URL;VALUE=URI:ohschonhell.at/?page_id=45089
SUMMARY:WRECK invites LADAGOJE
LOCATION:SASS
END:VEVENT
END:VCALENDAR


