BEGIN:VCALENDAR
VERSION:2.0
PRODID:-//hacksw/handcal//NONSGML v1.0//EN
BEGIN:VEVENT
UID:20507
DTSTART;VALUE=DATE:20260131
URL;VALUE=URI:ohschonhell.at/?page_id=45091
SUMMARY:Opération
LOCATION:SASS
END:VEVENT
END:VCALENDAR


