BEGIN:VCALENDAR
VERSION:2.0
PRODID:-//hacksw/handcal//NONSGML v1.0//EN
BEGIN:VEVENT
UID:2056
DTSTART;VALUE=DATE:20141025
URL;VALUE=URI:ohschonhell.at/?page_id=4714
SUMMARY:READY2RUMBLE &amp\; BOCK AUF KULTUR pres „LET’S GET READY 2 RUMBLE“ DJ BATTLE x VIENNESE VIBEZ x VIENNA TUN UP | SA. 25.10.2014 &lt\;&gt\;&lt\; Grelle Forelle
LOCATION:GRELLE FORELLE
END:VEVENT
END:VCALENDAR


