BEGIN:VCALENDAR
VERSION:2.0
PRODID:-//hacksw/handcal//NONSGML v1.0//EN
BEGIN:VEVENT
UID:206
DTSTART;VALUE=DATE:20131226
URL;VALUE=URI:ohschonhell.at/?page_id=2690
SUMMARY:Do.26.12 - Club MNML !
LOCATION:CAMERA CLUB
END:VEVENT
END:VCALENDAR


