BEGIN:VCALENDAR
VERSION:2.0
PRODID:-//hacksw/handcal//NONSGML v1.0//EN
BEGIN:VEVENT
UID:2065
DTSTART;VALUE=DATE:20141018
URL;VALUE=URI:ohschonhell.at/?page_id=4723
SUMMARY:ॐॐ FABRIC OF SPACE ॐॐ A Psychedelic Gathering ॐॐ ●●● PARASENSE ●●● ATRIOHM ●●● ARJUNA ●●●  IANUARIA ●●● SCOPE ●●●  SUTEKH ●●● TOMMES ●●● FULL PSY DECOR by ॐ  CALAQUENDI ART ●●● FLOATING BUSH COLLECTIVE ●●● PSY PIX ●●● GEOMATRIX DESIGN ●●● DENNY LIGHTRAY ●
LOCATION:CLUB 34
END:VEVENT
END:VCALENDAR


