BEGIN:VCALENDAR
VERSION:2.0
PRODID:-//hacksw/handcal//NONSGML v1.0//EN
BEGIN:VEVENT
UID:20653
DTSTART;VALUE=DATE:20260213
URL;VALUE=URI:ohschonhell.at/?page_id=45555
SUMMARY:Camo & Krooked pres by. CINEMATIC
LOCATION:Praterdome
END:VEVENT
END:VCALENDAR


