BEGIN:VCALENDAR
VERSION:2.0
PRODID:-//hacksw/handcal//NONSGML v1.0//EN
BEGIN:VEVENT
UID:2068
DTSTART;VALUE=DATE:20140914
URL;VALUE=URI:ohschonhell.at/?page_id=4726
SUMMARY:MORGENGYMNASTIK
LOCATION:SASS
END:VEVENT
END:VCALENDAR


