BEGIN:VCALENDAR
VERSION:2.0
PRODID:-//hacksw/handcal//NONSGML v1.0//EN
BEGIN:VEVENT
UID:20702
DTSTART;VALUE=DATE:20260228
URL;VALUE=URI:ohschonhell.at/?page_id=45710
SUMMARY:Spectral with Dual DeStress and Herbrido
LOCATION:Kramladen
END:VEVENT
END:VCALENDAR


