BEGIN:VCALENDAR
VERSION:2.0
PRODID:-//hacksw/handcal//NONSGML v1.0//EN
BEGIN:VEVENT
UID:20835
DTSTART;VALUE=DATE:20260403
URL;VALUE=URI:ohschonhell.at/?page_id=46081
SUMMARY:LuvAffair invites DJ Spen - House of Luv
LOCATION:Porgy & Bess
END:VEVENT
END:VCALENDAR


