BEGIN:VCALENDAR
VERSION:2.0
PRODID:-//hacksw/handcal//NONSGML v1.0//EN
BEGIN:VEVENT
UID:20903
DTSTART;VALUE=DATE:20260423
URL;VALUE=URI:ohschonhell.at/?page_id=46243
SUMMARY:deep cut - hypnotic &amp\; deep techno w no_oys\, nuno\, pezel
LOCATION:Kramladen
END:VEVENT
END:VCALENDAR


