BEGIN:VCALENDAR
VERSION:2.0
PRODID:-//hacksw/handcal//NONSGML v1.0//EN
BEGIN:VEVENT
UID:20911
DTSTART;VALUE=DATE:20260502
URL;VALUE=URI:ohschonhell.at/?page_id=46267
SUMMARY:RUMI&#x27\;S BIRTHDAY BASH
LOCATION:Praterstrasse / PRST
END:VEVENT
END:VCALENDAR


