BEGIN:VCALENDAR
VERSION:2.0
PRODID:-//hacksw/handcal//NONSGML v1.0//EN
BEGIN:VEVENT
UID:20912
DTSTART;VALUE=DATE:20260508
URL;VALUE=URI:ohschonhell.at/?page_id=46269
SUMMARY:PRST INVITES HEARTHUG &amp\; IAMBP
LOCATION:Praterstrasse / PRST
END:VEVENT
END:VCALENDAR


