BEGIN:VCALENDAR
VERSION:2.0
PRODID:-//hacksw/handcal//NONSGML v1.0//EN
BEGIN:VEVENT
UID:20939
DTSTART;VALUE=DATE:20260501
URL;VALUE=URI:ohschonhell.at/?page_id=46323
SUMMARY:SKALAH & JOLIE P & EN:VY at PARK IT HERE - UK GARAGE / BASSLINE / GRIME / DNB
LOCATION:Praterstrasse / PRST
END:VEVENT
END:VCALENDAR


