BEGIN:VCALENDAR
VERSION:2.0
PRODID:-//hacksw/handcal//NONSGML v1.0//EN
BEGIN:VEVENT
UID:2097
DTSTART;VALUE=DATE:20140926
URL;VALUE=URI:ohschonhell.at/?page_id=4764
SUMMARY:MEAT MARKET feat. DAVE TARRIDA (Autofake\, AYCB\, Tresor / Berlin)
LOCATION:FLUCC
END:VEVENT
END:VCALENDAR


