BEGIN:VCALENDAR
VERSION:2.0
PRODID:-//hacksw/handcal//NONSGML v1.0//EN
BEGIN:VEVENT
UID:2099
DTSTART;VALUE=DATE:20140919
URL;VALUE=URI:ohschonhell.at/?page_id=4767
SUMMARY:SUPERDISKO
LOCATION:ELEKTRO GÖNNER
END:VEVENT
END:VCALENDAR


