BEGIN:VCALENDAR
VERSION:2.0
PRODID:-//hacksw/handcal//NONSGML v1.0//EN
BEGIN:VEVENT
UID:210
DTSTART;VALUE=DATE:20131207
URL;VALUE=URI:ohschonhell.at/?page_id=2694
SUMMARY:BEATTHROAT VOL 14 w/ BORGORE
LOCATION:OTTAKRINGER BRAUEREI
END:VEVENT
END:VCALENDAR


