BEGIN:VCALENDAR
VERSION:2.0
PRODID:-//hacksw/handcal//NONSGML v1.0//EN
BEGIN:VEVENT
UID:2104
DTSTART;VALUE=DATE:20141031
URL;VALUE=URI:ohschonhell.at/?page_id=4772
SUMMARY:HEC &quot\; Halloween Electronic Carnival &quot\; 2014 mit ACE VENTURA / LUNA RAVE / ANGRY LUNA  &amp\; TALIESIN
LOCATION:DOTS twentyone
END:VEVENT
END:VCALENDAR


