BEGIN:VCALENDAR
VERSION:2.0
PRODID:-//hacksw/handcal//NONSGML v1.0//EN
BEGIN:VEVENT
UID:2105
DTSTART;VALUE=DATE:20140919
URL;VALUE=URI:ohschonhell.at/?page_id=4773
SUMMARY:BRAIN DAMAGE VOL.12
LOCATION:VIPER ROOM
END:VEVENT
END:VCALENDAR


