BEGIN:VCALENDAR
VERSION:2.0
PRODID:-//hacksw/handcal//NONSGML v1.0//EN
BEGIN:VEVENT
UID:2113
DTSTART;VALUE=DATE:20141113
URL;VALUE=URI:ohschonhell.at/?page_id=4783
SUMMARY:The Nova Jazz &amp\; Blues Nights present - STEREO MC´s
LOCATION:OTTAKRINGER BRAUEREI
END:VEVENT
END:VCALENDAR


