BEGIN:VCALENDAR
VERSION:2.0
PRODID:-//hacksw/handcal//NONSGML v1.0//EN
BEGIN:VEVENT
UID:2115
DTSTART;VALUE=DATE:20140927
URL;VALUE=URI:ohschonhell.at/?page_id=4785
SUMMARY:ELEKTROLAND PARTY
LOCATION:ELEKTRO GÖNNER
END:VEVENT
END:VCALENDAR


