BEGIN:VCALENDAR
VERSION:2.0
PRODID:-//hacksw/handcal//NONSGML v1.0//EN
BEGIN:VEVENT
UID:2118
DTSTART;VALUE=DATE:20140920
URL;VALUE=URI:ohschonhell.at/?page_id=4787
SUMMARY:Noize.Syndrome 2.3
LOCATION:VIPER ROOM
END:VEVENT
END:VCALENDAR


