BEGIN:VCALENDAR
VERSION:2.0
PRODID:-//hacksw/handcal//NONSGML v1.0//EN
BEGIN:VEVENT
UID:2122
DTSTART;VALUE=DATE:20141213
URL;VALUE=URI:ohschonhell.at/?page_id=4793
SUMMARY:WE SHARE A DECADE ::: DORIAN CONCEPT | CID RIM | JAZZWERKSTATT WIEN NEW ENSEMBLE | WANDL ::: BRUT VIENNA
LOCATION:BRUT
END:VEVENT
END:VCALENDAR


