BEGIN:VCALENDAR
VERSION:2.0
PRODID:-//hacksw/handcal//NONSGML v1.0//EN
BEGIN:VEVENT
UID:2129
DTSTART;VALUE=DATE:20141002
URL;VALUE=URI:ohschonhell.at/?page_id=4800
SUMMARY:TRICKY
LOCATION:U4
END:VEVENT
END:VCALENDAR


