BEGIN:VCALENDAR
VERSION:2.0
PRODID:-//hacksw/handcal//NONSGML v1.0//EN
BEGIN:VEVENT
UID:2131
DTSTART;VALUE=DATE:20140930
URL;VALUE=URI:ohschonhell.at/?page_id=4802
SUMMARY:PARALLEL OPENING &amp\; HVOB EP RELEASE PARTY
LOCATION:DIE KANTINE
END:VEVENT
END:VCALENDAR


