BEGIN:VCALENDAR
VERSION:2.0
PRODID:-//hacksw/handcal//NONSGML v1.0//EN
BEGIN:VEVENT
UID:2138
DTSTART;VALUE=DATE:20141011
URL;VALUE=URI:ohschonhell.at/?page_id=4809
SUMMARY:*LUCID DREAMS* 7 YEARS ANNIVERSARY with APOLLYON/METAFORM/FREQ36
LOCATION:VIPER ROOM
END:VEVENT
END:VCALENDAR


