BEGIN:VCALENDAR
VERSION:2.0
PRODID:-//hacksw/handcal//NONSGML v1.0//EN
BEGIN:VEVENT
UID:2144
DTSTART;VALUE=DATE:20141003
URL;VALUE=URI:ohschonhell.at/?page_id=4815
SUMMARY:NACHTFLUG mit GUTEN ABEND! / ANDY KOHLMANN [GER]
LOCATION:SASS
END:VEVENT
END:VCALENDAR


