BEGIN:VCALENDAR
VERSION:2.0
PRODID:-//hacksw/handcal//NONSGML v1.0//EN
BEGIN:VEVENT
UID:2146
DTSTART;VALUE=DATE:20141001
URL;VALUE=URI:ohschonhell.at/?page_id=4817
SUMMARY:Waves Vienna 2014 - Opening After-Show-Party
LOCATION:VIENNALE FESTIVALZENTRUM
END:VEVENT
END:VCALENDAR


